BEGIN:VCALENDAR
VERSION:2.0
PRODID:-//Long Pond Pottery - ECPv5.6.0//NONSGML v1.0//EN
CALSCALE:GREGORIAN
METHOD:PUBLISH
X-WR-CALNAME:Long Pond Pottery
X-ORIGINAL-URL:https://longpondpotteryshop.com
X-WR-CALDESC:Events for Long Pond Pottery
BEGIN:VTIMEZONE
TZID:America/Halifax
BEGIN:DAYLIGHT
TZOFFSETFROM:-0400
TZOFFSETTO:-0300
TZNAME:ADT
DTSTART:20230312T060000
END:DAYLIGHT
BEGIN:STANDARD
TZOFFSETFROM:-0300
TZOFFSETTO:-0400
TZNAME:AST
DTSTART:20231105T050000
END:STANDARD
END:VTIMEZONE
BEGIN:VEVENT
DTSTART;TZID=America/Halifax:20230711T100000
DTEND;TZID=America/Halifax:20230711T130000
DTSTAMP:20260423T153328
CREATED:20230421T142918Z
LAST-MODIFIED:20230421T142918Z
UID:893-1689069600-1689080400@longpondpotteryshop.com
SUMMARY:Nature & Clay workshop
DESCRIPTION:Join  us on a Nature and clay adventure this summer! \nIn this unique camp we will hike daily\, create fun art ( clay as well as other mediums) and play games with our friends. \nOnly 8 artist at a time \, so this is great for your child that thrives in smaller groups. \nAges 7 and up Pack a lunch and dress for a mess ( snacks provided) \n 
URL:https://longpondpotteryshop.com/event/nature-clay-workshop/2023-07-11/
CATEGORIES:Pottery
ATTACH;FMTTYPE=image/jpeg:https://longpondpotteryshop.com/wp-content/uploads/2023/03/IMG_1384-scaled.jpg
END:VEVENT
END:VCALENDAR