BEGIN:VCALENDAR
VERSION:2.0
PRODID:-//Long Pond Pottery - ECPv5.6.0//NONSGML v1.0//EN
CALSCALE:GREGORIAN
METHOD:PUBLISH
X-WR-CALNAME:Long Pond Pottery
X-ORIGINAL-URL:https://longpondpotteryshop.com
X-WR-CALDESC:Events for Long Pond Pottery
BEGIN:VTIMEZONE
TZID:America/Halifax
BEGIN:DAYLIGHT
TZOFFSETFROM:-0400
TZOFFSETTO:-0300
TZNAME:ADT
DTSTART:20240310T060000
END:DAYLIGHT
BEGIN:STANDARD
TZOFFSETFROM:-0300
TZOFFSETTO:-0400
TZNAME:AST
DTSTART:20241103T050000
END:STANDARD
END:VTIMEZONE
BEGIN:VEVENT
DTSTART;TZID=America/Halifax:20241115T183000
DTEND;TZID=America/Halifax:20241115T203000
DTSTAMP:20260421T053943
CREATED:20241010T162210Z
LAST-MODIFIED:20241010T162210Z
UID:1391-1731695400-1731702600@longpondpotteryshop.com
SUMMARY:Teen Open Studio - Nov 15
DESCRIPTION:Date: November 15\nTime: 6:30 PM – 8:30 PM\nCost: $45 (includes pizza and a drink) \nCalling all teens! Join us for a creative evening at our Teen Open Studio Pottery Night! Whether you’re a seasoned potter or trying it for the first time\, this is your chance to explore your artistic side in a relaxed and fun environment. \nChoose to work with clay to create your own unique pieces or paint pre-made pottery to make it truly your own. Our skilled instructors will be on hand to provide guidance and inspiration as you unleash your creativity. \nEnjoy delicious pizza and a refreshing drink while you create\, and connect with fellow art enthusiasts. This is a great opportunity to unwind\, express yourself\, and take home a special piece of pottery. \nSpaces are limited\, so grab your friends and reserve your spot today! We can’t wait to see what you’ll create!
URL:https://longpondpotteryshop.com/event/teen-open-studio-nov-15/
CATEGORIES:Pottery
ATTACH;FMTTYPE=image/png:https://longpondpotteryshop.com/wp-content/uploads/2024/10/Learn.-Create.-Thrive-4-1.png
END:VEVENT
END:VCALENDAR