BEGIN:VCALENDAR
VERSION:2.0
PRODID:-//Long Pond Pottery - ECPv5.6.0//NONSGML v1.0//EN
CALSCALE:GREGORIAN
METHOD:PUBLISH
X-WR-CALNAME:Long Pond Pottery
X-ORIGINAL-URL:https://longpondpotteryshop.com
X-WR-CALDESC:Events for Long Pond Pottery
BEGIN:VTIMEZONE
TZID:America/Halifax
BEGIN:DAYLIGHT
TZOFFSETFROM:-0400
TZOFFSETTO:-0300
TZNAME:ADT
DTSTART:20240310T060000
END:DAYLIGHT
BEGIN:STANDARD
TZOFFSETFROM:-0300
TZOFFSETTO:-0400
TZNAME:AST
DTSTART:20241103T050000
END:STANDARD
END:VTIMEZONE
BEGIN:VEVENT
DTSTART;TZID=America/Halifax:20241116T100000
DTEND;TZID=America/Halifax:20241116T113000
DTSTAMP:20260421T054148
CREATED:20241010T155320Z
LAST-MODIFIED:20241106T172421Z
UID:1369-1731751200-1731756600@longpondpotteryshop.com
SUMMARY:Kids Pottery Workshop - Holiday Ornaments
DESCRIPTION:Holiday Ornament Making Class for Kids at Long Pond Pottery Shop \nGet into the holiday spirit with your little ones at Long Pond Pottery Shop! We’re hosting a Holiday Ornament Making Class on November 16th for children up to age 8. This fun\, hands-on workshop will let kids create 8 beautiful stoneware holiday ornaments\, perfect for decorating their tree or giving as gifts. \nIn this 2.5-hour class\, children will shape and decorate their ornaments using colorful underglazes. After decorating\, the ornaments will be clear-glazed and fired\, ready for pick-up in 3 weeks. It’s a fun\, festive activity that encourages creativity and gives kids a special way to celebrate the season. \nClass Details: \n\nDate: November 16th\, 2024\nTime: 10:00 AM – 12:30 PM\nAges: Up to 8 years old\nCost: $40 per child\nClass Size: Limited to 6 children for a personalized experience\nIncludes: All materials\, instruction\, and firing\nPick-up: Ornaments will be ready in 3 weeks for you to collect\n\nSpaces are limited to just 6 participants\, so reserve your child’s spot today and give them the chance to create something special this holiday season! \nSign up now for a festive and fun day of holiday crafting!
URL:https://longpondpotteryshop.com/event/kids-pottery-workshop-ornaments/
CATEGORIES:Pottery
ATTACH;FMTTYPE=image/png:https://longpondpotteryshop.com/wp-content/uploads/2024/11/1-1.png
END:VEVENT
END:VCALENDAR