BEGIN:VCALENDAR
VERSION:2.0
PRODID:-//Long Pond Pottery - ECPv5.6.0//NONSGML v1.0//EN
CALSCALE:GREGORIAN
METHOD:PUBLISH
X-WR-CALNAME:Long Pond Pottery
X-ORIGINAL-URL:https://longpondpotteryshop.com
X-WR-CALDESC:Events for Long Pond Pottery
BEGIN:VTIMEZONE
TZID:America/Halifax
BEGIN:DAYLIGHT
TZOFFSETFROM:-0400
TZOFFSETTO:-0300
TZNAME:ADT
DTSTART:20250309T060000
END:DAYLIGHT
BEGIN:STANDARD
TZOFFSETFROM:-0300
TZOFFSETTO:-0400
TZNAME:AST
DTSTART:20251102T050000
END:STANDARD
END:VTIMEZONE
BEGIN:VEVENT
DTSTART;TZID=America/Halifax:20250218T100000
DTEND;TZID=America/Halifax:20250220T130000
DTSTAMP:20260422T084314
CREATED:20240531T190655Z
LAST-MODIFIED:20250204T172937Z
UID:1193-1739872800-1740056400@longpondpotteryshop.com
SUMMARY:February Break Nature & Art Camp
DESCRIPTION:Join us for three days of creativity\, adventure\, and winter fun at Long Pond Pottery Shop! \n🌲 Hike\, Create & Play with Friends\n📅 February 18-20\n⏰ 10 AM – 1 PM\n👧 Ages 7+\n💰 $180 \nGet ready to explore the outdoors\, craft unique pottery pieces\, and enjoy time with friends in a cozy\, creative setting. Pack a lunch and dress warmly—we’ll be spending time outside! \n🎟 Only 6 Spots Left! \nDon’t miss out—reserve your spot today!
URL:https://longpondpotteryshop.com/event/feb-nature-art/
ATTACH;FMTTYPE=image/png:https://longpondpotteryshop.com/wp-content/uploads/2024/05/Learn.-Create.-Thrive-6.png
END:VEVENT
END:VCALENDAR